BEGIN:VCALENDAR
VERSION:2.0
PRODID:DPCALENDAR
CALSCALE:GREGORIAN
BEGIN:VTIMEZONE
TZID:Europe/Paris
X-MICROSOFT-CDO-TZID:3
BEGIN:STANDARD
DTSTART:20251026T010000
TZOFFSETFROM:+0200
TZOFFSETTO:+0100
TZNAME:CET
END:STANDARD
BEGIN:STANDARD
DTSTART:20261025T010000
TZOFFSETFROM:+0200
TZOFFSETTO:+0100
TZNAME:CET
END:STANDARD
BEGIN:DAYLIGHT
DTSTART:20260329T010000
TZOFFSETFROM:+0100
TZOFFSETTO:+0200
TZNAME:CEST
END:DAYLIGHT
END:VTIMEZONE
X-WR-TIMEZONE:Europe/Paris
BEGIN:VEVENT
DTSTART;VALUE=DATE:20230701
DTEND;VALUE=DATE:20230703
UID:8B66578F-FC3B-4DBF-B87E-53D3CCB0291A
SUMMARY:Gymnastique féminine - Championnat national par équipes "F-F1" 2023
CREATED:20230618T100719Z
DTSTAMP:20230618T100719Z
URL:https://nacgym.fr/index.php/agenda/gymnastique-feminine-championnat-national-par-equipes-f-f1-2023
LOCATION:Rue des Boires\, 44021 Nantes\, Pays de la Loire\, France
GEO:47.20455920;-1.54236580
X-LOCATION-DISPLAYNAME:France, Pays de la Loire, Loire-Atlantique, Nantes, 44021, Rue des Boires
X-ACCESS:1
X-HITS:25
X-COLOR:3366cc
X-IMAGE-FULL:https://nacgym.fr/images/Agenda/affichegaff-f127fevrier2023.jpeg
X-IMAGE-INTRO:https://nacgym.fr/images/Agenda/affichegaff-f127fevrier2023.jpeg
X-SHOW-END-TIME:1
END:VEVENT
BEGIN:VEVENT
DTSTART;TZID=Europe/Paris:20240128T140000
DTEND;TZID=Europe/Paris:20240128T150000
UID:C0C4F433-5012-4136-B08B-4D89547D7B6B
SUMMARY:TEST INTERNE
CREATED:20230927T123659Z
DTSTAMP:20230927T123659Z
URL:https://nacgym.fr/index.php/agenda/test-interne
LOCATION:Impasse Julie-Victoire Daubié\, 44390 Nort-sur-Erdre\, Pays de la Loire\, France
GEO:47.43383730;-1.50518570
X-LOCATION-DISPLAYNAME:France, Pays de la Loire, Loire-Atlantique, Nort-sur-Erdre, 44390, Impasse Julie-Victoire DAUBIE
X-ACCESS:1
X-HITS:39
X-COLOR:3366cc
X-SHOW-END-TIME:1
END:VEVENT
BEGIN:VEVENT
DTSTART;TZID=Europe/Paris:20240210T090000
DTEND;TZID=Europe/Paris:20240211T140000
UID:0DD4478E-35CF-4EF4-966F-885DA7F1EACF
SUMMARY:Challenge CAT Honneur et Espoir
CREATED:20230927T123941Z
DTSTAMP:20230927T123941Z
URL:https://nacgym.fr/index.php/agenda/challenge-cat-honneur-et-espoir
LOCATION:
GEO:47.29647600;-2.35828640
X-LOCATION-DISPLAYNAME:France, Pays de la Loire, Loire-Atlantique, La Baule-Escoublac, 44500
X-ACCESS:1
X-HITS:42
X-COLOR:3366cc
X-SHOW-END-TIME:1
END:VEVENT
BEGIN:VEVENT
DTSTART;TZID=Europe/Paris:20240217T090000
DTEND;TZID=Europe/Paris:20240218T190000
UID:3CD1E2B0-83CB-4BC2-A308-B2E80D61BE74
SUMMARY:Challenge CAT. Avenir, Excellence et PDL 
CREATED:20230927T124324Z
DTSTAMP:20230927T124324Z
URL:https://nacgym.fr/index.php/agenda/challenge-cat-avenir-excellence-et-pdl
LOCATION:
GEO:47.27335170;-2.21389050
X-LOCATION-DISPLAYNAME:France, Pays de la Loire, Loire-Atlantique, 44600
X-ACCESS:1
X-HITS:52
X-COLOR:3366cc
X-SHOW-END-TIME:1
END:VEVENT
BEGIN:VEVENT
DTSTART;TZID=Europe/Paris:20240413T090000
DTEND;TZID=Europe/Paris:20240414T190000
UID:24EF2CF9-EEED-4180-965E-5A229D64B871
SUMMARY:Finale Challenge Régionale
CREATED:20230927T124429Z
DTSTAMP:20230927T124429Z
URL:https://nacgym.fr/index.php/agenda/finale-challenge-regionale
LOCATION:
GEO:46.89312580;-1.25074620
X-LOCATION-DISPLAYNAME:France, Pays de la Loire, Vendée, 85250
X-ACCESS:1
X-HITS:44
X-COLOR:3366cc
X-SHOW-END-TIME:1
END:VEVENT
BEGIN:VEVENT
DTSTART;TZID=Europe/Paris:20240421T090000
DTEND;TZID=Europe/Paris:20240421T180000
UID:392F2A53-346D-4334-894A-CC00C20D2638
SUMMARY:Finale challenge départementale
CREATED:20230927T124518Z
DTSTAMP:20230927T124518Z
URL:https://nacgym.fr/index.php/agenda/finale-challenge-departementale
LOCATION:
GEO:47.32859090;-2.15431710
X-LOCATION-DISPLAYNAME:France, Pays de la Loire, Loire-Atlantique, 44550
X-ACCESS:1
X-HITS:41
X-COLOR:3366cc
X-SHOW-END-TIME:1
END:VEVENT
END:VCALENDAR